Workbook
Name 入力中: #REF!

Sheet 第7回　健康づくりウォーキング大会　記録表
Q3: =TODAY() -> 46293 | X3: 健康づくりウォーキング大会で東海道53次を踏破しよう！
F5: １０月 | H5: 歩数 | K5: １１月 | M5: 歩数
F6: 46296 | G6: ="("&TEXT(F6,"aaa")&")" -> (木) | J6: =IF(H6="","",COUNT($F$6:F6)) | K6: 46327 | L6: ="("&TEXT(K6,"aaa")&")" -> (日) | O6: =IF(M6="","",COUNT($K$6:K6)) | T6: =IF(R6="","",COUNT($P$6:P6))
F7: 46297 | G7: ="("&TEXT(F7,"aaa")&")" -> (金) | J7: =IF(H7="","",COUNT($F$6:F7)) | K7: 46328 | L7: ="("&TEXT(K7,"aaa")&")" -> (月) | O7: =IF(M7="","",COUNT($K$6:K7)) | T7: =IF(R7="","",COUNT($P$6:P7))
F8: 46298 | G8: ="("&TEXT(F8,"aaa")&")" -> (土) | J8: =IF(H8="","",COUNT($F$6:F8)) | K8: 46329 | L8: ="("&TEXT(K8,"aaa")&")" -> (火) | O8: =IF(M8="","",COUNT($K$6:K8)) | T8: =IF(R8="","",COUNT($P$6:P8)) | X8: =" "&AA9&"からスタート！" -> 日本橋からスタート！ | AA8: 1 | AB8: =IF($T$39>=VLOOKUP(AC8,[1]歩数!$B$3:$C$90,2,0),"➡","⇨") -> ⇨ | AC8: 2 | AD8: =IF($T$39>=VLOOKUP(AE8,[1]歩数!$B$3:$C$90,2,0),"➡","⇨") -> ⇨ | AE8: 3 | AF8: =IF($T$39>=VLOOKUP(AG8,[1]歩数!$B$3:$C$90,2,0),"➡","⇨") -> ⇨ | AG8: 4 | AH8: =IF($T$39>=VLOOKUP(AI8,[1]歩数!$B$3:$C$90,2,0),"➡","⇨") -> ⇨ | AI8: 5 | AJ8: =IF($T$39>=VLOOKUP(AK8,[1]歩数!$B$3:$C$90,2,0),"➡","⇨") -> ⇨ | AK8: 6 | AL8: =IF($T$39>=VLOOKUP(AM8,[1]歩数!$B$3:$C$90,2,0),"➡","⇨") -> ⇨ | AM8: 7 | AN8: =IF($T$39>=VLOOKUP(AO8,[1]歩数!$B$3:$C$90,2,0),"➡","⇨") -> ⇨ | AO8: 8 | AP8: =IF($T$39>=VLOOKUP(AQ8,[1]歩数!$B$3:$C$90,2,0),"➡","⇨") -> ⇨ | AQ8: 9 | AR8: =IF($T$39>=VLOOKUP(AS8,[1]歩数!$B$3:$C$90,2,0),"➡","⇨") -> ⇨ | AS8: 10 | AU8: 小田原まで129,400歩
F9: 46299 | G9: ="("&TEXT(F9,"aaa")&")" -> (日) | J9: =IF(H9="","",COUNT($F$6:F9)) | K9: 46330 | L9: ="("&TEXT(K9,"aaa")&")" -> (水) | O9: =IF(M9="","",COUNT($K$6:K9)) | T9: =IF(R9="","",COUNT($P$6:P9)) | AA9: =VLOOKUP(AA8,[1]歩数!$B$2:$D$101,3,FALSE) -> 日本橋 | AC9: =VLOOKUP(AC8,[1]歩数!$B$2:$D$101,3,FALSE) -> 品川 | AE9: =VLOOKUP(AE8,[1]歩数!$B$2:$D$101,3,FALSE) -> 川崎 | AG9: =VLOOKUP(AG8,[1]歩数!$B$2:$D$101,3,FALSE) -> 神奈川 | AI9: =VLOOKUP(AI8,[1]歩数!$B$2:$D$101,3,FALSE) -> 保土ヶ谷 | AK9: =VLOOKUP(AK8,[1]歩数!$B$2:$D$101,3,FALSE) -> 戸塚 | AM9: =VLOOKUP(AM8,[1]歩数!$B$2:$D$101,3,FALSE) -> 藤沢 | AO9: =VLOOKUP(AO8,[1]歩数!$B$2:$D$101,3,FALSE) -> 平塚 | AQ9: =VLOOKUP(AQ8,[1]歩数!$B$2:$D$101,3,FALSE) -> 大磯 | AS9: =VLOOKUP(AS8,[1]歩数!$B$2:$D$101,3,FALSE) -> 小田原 | AU9: (1日平均歩数2,122歩)
F10: 46300 | G10: ="("&TEXT(F10,"aaa")&")" -> (月) | J10: =IF(H10="","",COUNT($F$6:F10)) | K10: 46331 | L10: ="("&TEXT(K10,"aaa")&")" -> (木) | O10: =IF(M10="","",COUNT($K$6:K10)) | T10: =IF(R10="","",COUNT($P$6:P10))
F11: 46301 | G11: ="("&TEXT(F11,"aaa")&")" -> (火) | J11: =IF(H11="","",COUNT($F$6:F11)) | K11: 46332 | L11: ="("&TEXT(K11,"aaa")&")" -> (金) | O11: =IF(M11="","",COUNT($K$6:K11)) | T11: =IF(R11="","",COUNT($P$6:P11))
F12: 46302 | G12: ="("&TEXT(F12,"aaa")&")" -> (水) | J12: =IF(H12="","",COUNT($F$6:F12)) | K12: 46333 | L12: ="("&TEXT(K12,"aaa")&")" -> (土) | O12: =IF(M12="","",COUNT($K$6:K12)) | T12: =IF(R12="","",COUNT($P$6:P12))
F13: 46303 | G13: ="("&TEXT(F13,"aaa")&")" -> (木) | J13: =IF(H13="","",COUNT($F$6:F13)) | K13: 46334 | L13: ="("&TEXT(K13,"aaa")&")" -> (日) | O13: =IF(M13="","",COUNT($K$6:K13)) | T13: =IF(R13="","",COUNT($P$6:P13)) | Z13: =IF($T$39>=VLOOKUP(AA13,[1]歩数!$B$3:$C$90,2,0),"➡","⇨") -> ⇨ | AA13: 11 | AB13: =IF($T$39>=VLOOKUP(AC13,[1]歩数!$B$3:$C$90,2,0),"➡","⇨") -> ⇨ | AC13: 12 | AD13: =IF($T$39>=VLOOKUP(AE13,[1]歩数!$B$3:$C$90,2,0),"➡","⇨") -> ⇨ | AE13: 13 | AF13: =IF($T$39>=VLOOKUP(AG13,[1]歩数!$B$3:$C$90,2,0),"➡","⇨") -> ⇨ | AG13: 14 | AH13: =IF($T$39>=VLOOKUP(AI13,[1]歩数!$B$3:$C$90,2,0),"➡","⇨") -> ⇨ | AI13: 15 | AJ13: =IF($T$39>=VLOOKUP(AK13,[1]歩数!$B$3:$C$90,2,0),"➡","⇨") -> ⇨ | AK13: 16 | AL13: =IF($T$39>=VLOOKUP(AM13,[1]歩数!$B$3:$C$90,2,0),"➡","⇨") -> ⇨ | AM13: 17 | AN13: =IF($T$39>=VLOOKUP(AO13,[1]歩数!$B$3:$C$90,2,0),"➡","⇨") -> ⇨ | AO13: 18 | AP13: =IF($T$39>=VLOOKUP(AQ13,[1]歩数!$B$3:$C$90,2,0),"➡","⇨") -> ⇨ | AQ13: 19 | AR13: =IF($T$39>=VLOOKUP(AS13,[1]歩数!$B$3:$C$90,2,0),"➡","⇨") -> ⇨ | AS13: 20
F14: 46304 | G14: ="("&TEXT(F14,"aaa")&")" -> (金) | J14: =IF(H14="","",COUNT($F$6:F14)) | K14: 46335 | L14: ="("&TEXT(K14,"aaa")&")" -> (月) | O14: =IF(M14="","",COUNT($K$6:K14)) | T14: =IF(R14="","",COUNT($P$6:P14)) | AA14: =VLOOKUP(AA13,[1]歩数!$B$2:$D$101,3,FALSE) -> 箱根 | AC14: =VLOOKUP(AC13,[1]歩数!$B$2:$D$101,3,FALSE) -> 三島 | AE14: =VLOOKUP(AE13,[1]歩数!$B$2:$D$101,3,FALSE) -> 沼津 | AG14: =VLOOKUP(AG13,[1]歩数!$B$2:$D$101,3,FALSE) -> 原 | AI14: =VLOOKUP(AI13,[1]歩数!$B$2:$D$101,3,FALSE) -> 吉原 | AK14: =VLOOKUP(AK13,[1]歩数!$B$2:$D$101,3,FALSE) -> 蒲原 | AM14: =VLOOKUP(AM13,[1]歩数!$B$2:$D$101,3,FALSE) -> 由比 | AO14: =VLOOKUP(AO13,[1]歩数!$B$2:$D$101,3,FALSE) -> 興津 | AQ14: =VLOOKUP(AQ13,[1]歩数!$B$2:$D$101,3,FALSE) -> 江尻 | AS14: =VLOOKUP(AS13,[1]歩数!$B$2:$D$101,3,FALSE) -> 府中
F15: 46305 | G15: ="("&TEXT(F15,"aaa")&")" -> (土) | J15: =IF(H15="","",COUNT($F$6:F15)) | K15: 46336 | L15: ="("&TEXT(K15,"aaa")&")" -> (火) | O15: =IF(M15="","",COUNT($K$6:K15)) | T15: =IF(R15="","",COUNT($P$6:P15))
F16: 46306 | G16: ="("&TEXT(F16,"aaa")&")" -> (日) | J16: =IF(H16="","",COUNT($F$6:F16)) | K16: 46337 | L16: ="("&TEXT(K16,"aaa")&")" -> (水) | O16: =IF(M16="","",COUNT($K$6:K16))
F17: 46307 | G17: ="("&TEXT(F17,"aaa")&")" -> (月) | J17: =IF(H17="","",COUNT($F$6:F17)) | K17: 46338 | L17: ="("&TEXT(K17,"aaa")&")" -> (木) | O17: =IF(M17="","",COUNT($K$6:K17))
F18: 46308 | G18: ="("&TEXT(F18,"aaa")&")" -> (火) | J18: =IF(H18="","",COUNT($F$6:F18)) | K18: 46339 | L18: ="("&TEXT(K18,"aaa")&")" -> (金) | O18: =IF(M18="","",COUNT($K$6:K18)) | W18: 丸子まで287,900歩 | Z18: =IF($T$39>=VLOOKUP(AA18,[1]歩数!$B$3:$C$90,2,0),"➡","⇨") -> ⇨ | AA18: 21 | AB18: =IF($T$39>=VLOOKUP(AC18,[1]歩数!$B$3:$C$90,2,0),"➡","⇨") -> ⇨ | AC18: 22 | AD18: =IF($T$39>=VLOOKUP(AE18,[1]歩数!$B$3:$C$90,2,0),"➡","⇨") -> ⇨ | AE18: 23 | AF18: =IF($T$39>=VLOOKUP(AG18,[1]歩数!$B$3:$C$90,2,0),"➡","⇨") -> ⇨ | AG18: 24 | AH18: =IF($T$39>=VLOOKUP(AI18,[1]歩数!$B$3:$C$90,2,0),"➡","⇨") -> ⇨ | AI18: 25 | AJ18: =IF($T$39>=VLOOKUP(AK18,[1]歩数!$B$3:$C$90,2,0),"➡","⇨") -> ⇨ | AK18: 26 | AL18: =IF($T$39>=VLOOKUP(AM18,[1]歩数!$B$3:$C$90,2,0),"➡","⇨") -> ⇨ | AM18: 27 | AN18: =IF($T$39>=VLOOKUP(AO18,[1]歩数!$B$3:$C$90,2,0),"➡","⇨") -> ⇨ | AO18: 28 | AP18: =IF($T$39>=VLOOKUP(AQ18,[1]歩数!$B$3:$C$90,2,0),"➡","⇨") -> ⇨ | AQ18: 29 | AR18: =IF($T$39>=VLOOKUP(AS18,[1]歩数!$B$3:$C$90,2,0),"➡","⇨") -> ⇨ | AS18: 30
F19: 46309 | G19: ="("&TEXT(F19,"aaa")&")" -> (水) | J19: =IF(H19="","",COUNT($F$6:F19)) | K19: 46340 | L19: ="("&TEXT(K19,"aaa")&")" -> (土) | O19: =IF(M19="","",COUNT($K$6:K19)) | W19: (1日平均歩数4,720歩) | AA19: =VLOOKUP(AA18,[1]歩数!$B$2:$D$101,3,FALSE) -> 丸子 | AC19: =VLOOKUP(AC18,[1]歩数!$B$2:$D$101,3,FALSE) -> 岡部 | AE19: =VLOOKUP(AE18,[1]歩数!$B$2:$D$101,3,FALSE) -> 藤枝 | AG19: =VLOOKUP(AG18,[1]歩数!$B$2:$D$101,3,FALSE) -> 島田 | AI19: =VLOOKUP(AI18,[1]歩数!$B$2:$D$101,3,FALSE) -> 金谷 | AK19: =VLOOKUP(AK18,[1]歩数!$B$2:$D$101,3,FALSE) -> 日坂 | AM19: =VLOOKUP(AM18,[1]歩数!$B$2:$D$101,3,FALSE) -> 掛川 | AO19: =VLOOKUP(AO18,[1]歩数!$B$2:$D$101,3,FALSE) -> 袋井 | AQ19: =VLOOKUP(AQ18,[1]歩数!$B$2:$D$101,3,FALSE) -> 見附 | AS19: =VLOOKUP(AS18,[1]歩数!$B$2:$D$101,3,FALSE) -> 浜松
F20: 46310 | G20: ="("&TEXT(F20,"aaa")&")" -> (木) | J20: =IF(H20="","",COUNT($F$6:F20)) | K20: 46341 | L20: ="("&TEXT(K20,"aaa")&")" -> (日) | O20: =IF(M20="","",COUNT($K$6:K20))
F21: 46311 | G21: ="("&TEXT(F21,"aaa")&")" -> (金) | J21: =IF(H21="","",COUNT($F$6:F21)) | K21: 46342 | L21: ="("&TEXT(K21,"aaa")&")" -> (月) | O21: =IF(M21="","",COUNT($K$6:K21))
F22: 46312 | G22: ="("&TEXT(F22,"aaa")&")" -> (土) | J22: =IF(H22="","",COUNT($F$6:F22)) | K22: 46343 | L22: ="("&TEXT(K22,"aaa")&")" -> (火) | O22: =IF(M22="","",COUNT($K$6:K22))
F23: 46313 | G23: ="("&TEXT(F23,"aaa")&")" -> (日) | J23: =IF(H23="","",COUNT($F$6:F23)) | K23: 46344 | L23: ="("&TEXT(K23,"aaa")&")" -> (水) | O23: =IF(M23="","",COUNT($K$6:K23)) | Z23: =IF($T$39>=VLOOKUP(AA23,[1]歩数!$B$3:$C$90,2,0),"➡","⇨") -> ⇨ | AA23: 31 | AB23: =IF($T$39>=VLOOKUP(AC23,[1]歩数!$B$3:$C$90,2,0),"➡","⇨") -> ⇨ | AC23: 32 | AD23: =IF($T$39>=VLOOKUP(AE23,[1]歩数!$B$3:$C$90,2,0),"➡","⇨") -> ⇨ | AE23: 33 | AF23: =IF($T$39>=VLOOKUP(AG23,[1]歩数!$B$3:$C$90,2,0),"➡","⇨") -> ⇨ | AG23: 34 | AH23: =IF($T$39>=VLOOKUP(AI23,[1]歩数!$B$3:$C$90,2,0),"➡","⇨") -> ⇨ | AI23: 35 | AJ23: =IF($T$39>=VLOOKUP(AK23,[1]歩数!$B$3:$C$90,2,0),"➡","⇨") -> ⇨ | AK23: 36 | AL23: =IF($T$39>=VLOOKUP(AM23,[1]歩数!$B$3:$C$90,2,0),"➡","⇨") -> ⇨ | AM23: 37 | AN23: =IF($T$39>=VLOOKUP(AO23,[1]歩数!$B$3:$C$90,2,0),"➡","⇨") -> ⇨ | AO23: 38 | AP23: =IF($T$39>=VLOOKUP(AQ23,[1]歩数!$B$3:$C$90,2,0),"➡","⇨") -> ⇨ | AQ23: 39 | AR23: =IF($T$39>=VLOOKUP(AS23,[1]歩数!$B$3:$C$90,2,0),"➡","⇨") -> ⇨ | AS23: 40
F24: 46314 | G24: ="("&TEXT(F24,"aaa")&")" -> (月) | J24: =IF(H24="","",COUNT($F$6:F24)) | K24: 46345 | L24: ="("&TEXT(K24,"aaa")&")" -> (木) | O24: =IF(M24="","",COUNT($K$6:K24)) | AA24: =VLOOKUP(AA23,[1]歩数!$B$2:$D$101,3,FALSE) -> 舞阪 | AC24: =VLOOKUP(AC23,[1]歩数!$B$2:$D$101,3,FALSE) -> 新居 | AE24: =VLOOKUP(AE23,[1]歩数!$B$2:$D$101,3,FALSE) -> 白須加 | AG24: =VLOOKUP(AG23,[1]歩数!$B$2:$D$101,3,FALSE) -> 二川 | AI24: =VLOOKUP(AI23,[1]歩数!$B$2:$D$101,3,FALSE) -> 吉田 | AK24: =VLOOKUP(AK23,[1]歩数!$B$2:$D$101,3,FALSE) -> 御油 | AM24: =VLOOKUP(AM23,[1]歩数!$B$2:$D$101,3,FALSE) -> 赤坂 | AO24: =VLOOKUP(AO23,[1]歩数!$B$2:$D$101,3,FALSE) -> 藤川 | AQ24: =VLOOKUP(AQ23,[1]歩数!$B$2:$D$101,3,FALSE) -> 岡崎 | AS24: =VLOOKUP(AS23,[1]歩数!$B$2:$D$101,3,FALSE) -> 池鯉鮒
F25: 46315 | G25: ="("&TEXT(F25,"aaa")&")" -> (火) | J25: =IF(H25="","",COUNT($F$6:F25)) | K25: 46346 | L25: ="("&TEXT(K25,"aaa")&")" -> (金) | O25: =IF(M25="","",COUNT($K$6:K25))
F26: 46316 | G26: ="("&TEXT(F26,"aaa")&")" -> (水) | J26: =IF(H26="","",COUNT($F$6:F26)) | K26: 46347 | L26: ="("&TEXT(K26,"aaa")&")" -> (土) | O26: =IF(M26="","",COUNT($K$6:K26))
F27: 46317 | G27: ="("&TEXT(F27,"aaa")&")" -> (木) | J27: =IF(H27="","",COUNT($F$6:F27)) | K27: 46348 | L27: ="("&TEXT(K27,"aaa")&")" -> (日) | O27: =IF(M27="","",COUNT($K$6:K27))
F28: 46318 | G28: ="("&TEXT(F28,"aaa")&")" -> (金) | J28: =IF(H28="","",COUNT($F$6:F28)) | K28: 46349 | L28: ="("&TEXT(K28,"aaa")&")" -> (月) | O28: =IF(M28="","",COUNT($K$6:K28)) | Z28: =IF($T$39>=VLOOKUP(AA28,[1]歩数!$B$3:$C$90,2,0),"➡","⇨") -> ⇨ | AA28: 41 | AB28: =IF($T$39>=VLOOKUP(AC28,[1]歩数!$B$3:$C$90,2,0),"➡","⇨") -> ⇨ | AC28: 42 | AD28: =IF($T$39>=VLOOKUP(AE28,[1]歩数!$B$3:$C$90,2,0),"➡","⇨") -> ⇨ | AE28: 43 | AF28: =IF($T$39>=VLOOKUP(AG28,[1]歩数!$B$3:$C$90,2,0),"➡","⇨") -> ⇨ | AG28: 44 | AH28: =IF($T$39>=VLOOKUP(AI28,[1]歩数!$B$3:$C$90,2,0),"➡","⇨") -> ⇨ | AI28: 45 | AJ28: =IF($T$39>=VLOOKUP(AK28,[1]歩数!$B$3:$C$90,2,0),"➡","⇨") -> ⇨ | AK28: 46 | AL28: =IF($T$39>=VLOOKUP(AM28,[1]歩数!$B$3:$C$90,2,0),"➡","⇨") -> ⇨ | AM28: 47 | AN28: =IF($T$39>=VLOOKUP(AO28,[1]歩数!$B$3:$C$90,2,0),"➡","⇨") -> ⇨ | AO28: 48 | AP28: =IF($T$39>=VLOOKUP(AQ28,[1]歩数!$B$3:$C$90,2,0),"➡","⇨") -> ⇨ | AQ28: 49 | AR28: =IF($T$39>=VLOOKUP(AS28,[1]歩数!$B$3:$C$90,2,0),"➡","⇨") -> ⇨ | AS28: 50
F29: 46319 | G29: ="("&TEXT(F29,"aaa")&")" -> (土) | J29: =IF(H29="","",COUNT($F$6:F29)) | K29: 46350 | L29: ="("&TEXT(K29,"aaa")&")" -> (火) | O29: =IF(M29="","",COUNT($K$6:K29)) | AA29: =VLOOKUP(AA28,[1]歩数!$B$2:$D$101,3,FALSE) -> 鳴海 | AC29: =VLOOKUP(AC28,[1]歩数!$B$2:$D$101,3,FALSE) -> 宮 | AE29: =VLOOKUP(AE28,[1]歩数!$B$2:$D$101,3,FALSE) -> 桑名 | AG29: =VLOOKUP(AG28,[1]歩数!$B$2:$D$101,3,FALSE) -> 四日市 | AI29: =VLOOKUP(AI28,[1]歩数!$B$2:$D$101,3,FALSE) -> 石薬師 | AK29: =VLOOKUP(AK28,[1]歩数!$B$2:$D$101,3,FALSE) -> 庄野 | AM29: =VLOOKUP(AM28,[1]歩数!$B$2:$D$101,3,FALSE) -> 亀山 | AO29: =VLOOKUP(AO28,[1]歩数!$B$2:$D$101,3,FALSE) -> 関 | AQ29: =VLOOKUP(AQ28,[1]歩数!$B$2:$D$101,3,FALSE) -> 坂下 | AS29: =VLOOKUP(AS28,[1]歩数!$B$2:$D$101,3,FALSE) -> 土山
F30: 46320 | G30: ="("&TEXT(F30,"aaa")&")" -> (日) | J30: =IF(H30="","",COUNT($F$6:F30)) | K30: 46351 | L30: ="("&TEXT(K30,"aaa")&")" -> (水) | O30: =IF(M30="","",COUNT($K$6:K30))
F31: 46321 | G31: ="("&TEXT(F31,"aaa")&")" -> (月) | J31: =IF(H31="","",COUNT($F$6:F31)) | K31: 46352 | L31: ="("&TEXT(K31,"aaa")&")" -> (木) | O31: =IF(M31="","",COUNT($K$6:K31))
F32: 46322 | G32: ="("&TEXT(F32,"aaa")&")" -> (火) | J32: =IF(H32="","",COUNT($F$6:F32)) | K32: 46353 | L32: ="("&TEXT(K32,"aaa")&")" -> (金) | O32: =IF(M32="","",COUNT($K$6:K32))
F33: 46323 | G33: ="("&TEXT(F33,"aaa")&")" -> (水) | J33: =IF(H33="","",COUNT($F$6:F33)) | K33: 46354 | L33: ="("&TEXT(K33,"aaa")&")" -> (土) | O33: =IF(M33="","",COUNT($K$6:K33)) | Z33: =IF($T$39>=VLOOKUP(AA33,[1]歩数!$B$3:$C$90,2,0),"➡","⇨") -> ⇨ | AA33: 51 | AB33: =IF($T$39>=VLOOKUP(AC33,[1]歩数!$B$3:$C$90,2,0),"➡","⇨") -> ⇨ | AC33: 52 | AD33: =IF($T$39>=VLOOKUP(AE33,[1]歩数!$B$3:$C$90,2,0),"➡","⇨") -> ⇨ | AE33: 53 | AF33: =IF($T$39>=VLOOKUP(AG33,[1]歩数!$B$3:$C$90,2,0),"➡","⇨") -> ⇨ | AG33: 54 | AH33: =IF($T$39>=VLOOKUP(AI33,[1]歩数!$B$3:$C$90,2,0),"➡","⇨") -> ⇨ | AI33: 55 | AK33: 787,900歩で踏破 ※1歩を0.62ｍとして計算
F34: 46324 | G34: ="("&TEXT(F34,"aaa")&")" -> (木) | J34: =IF(H34="","",COUNT($F$6:F34)) | K34: 46355 | L34: ="("&TEXT(K34,"aaa")&")" -> (日) | O34: =IF(M34="","",COUNT($K$6:K34)) | AA34: =VLOOKUP(AA33,[1]歩数!$B$2:$D$101,3,FALSE) -> 水口 | AC34: =VLOOKUP(AC33,[1]歩数!$B$2:$D$101,3,FALSE) -> 石部 | AE34: =VLOOKUP(AE33,[1]歩数!$B$2:$D$101,3,FALSE) -> 草津 | AG34: =VLOOKUP(AG33,[1]歩数!$B$2:$D$101,3,FALSE) -> 大津 | AI34: =VLOOKUP(AI33,[1]歩数!$B$2:$D$101,3,FALSE) -> 三条大橋
F35: 46325 | G35: ="("&TEXT(F35,"aaa")&")" -> (金) | J35: =IF(H35="","",COUNT($F$6:F35)) | K35: 46356 | L35: ="("&TEXT(K35,"aaa")&")" -> (月) | O35: =IF(M35="","",COUNT($K$6:K35)) | W35: 桑名まで599,200歩
F36: 46326 | G36: ="("&TEXT(F36,"aaa")&")" -> (土) | J36: =IF(H36="","",COUNT($F$6:F36)) | L36: 計 | M36: =IF(Q3>=46356,SUM(M6:M35),IF(SUM(M6:M35)<1,"歩",SUM(M6:M35))) -> 歩 | O36: =COUNT(O6:O35) -> 0 | W36: (1日平均歩数9,823歩)
G37: 計 | H37: =IF(J40>31,SUM(H6:H36),IF(SUM(H6:H36)<1,"歩",SUM(H6:H36))) -> 歩 | J37: =COUNT(J6:J36) -> 0
AE38: 三条大橋まで787,900歩
J39: =SUM(H6:H36) -> 0 | O39: =SUM(M6:M35) -> 0 | T39: =J39+O39 -> 0 | AE39: (1日平均歩数12,510歩)
F40: 10月平均 | H40: =IF(J40=0,"歩",J39/J40) -> 歩 | J40: =IF(OR(O36>0),31,MAX(J6:J36)) -> 0 | K40: 11月平均 | M40: =IF(Q3>=46356,O39/O40,IF(COUNT(M6:M35)=0,"歩",O39/O40)) -> 歩 | O40: =IF(Q3>45260,30,MAX(O6:O35)) -> 30
B42: 全期間平均歩数８，０００歩以上で達成賞です▶ | G42: 全期間平均 | I42: =IF(COUNT(H6:H36)+COUNT(M6:M35)=0,"歩",T39/T42) -> 歩 | M42: =IF(T39=0,"（計 歩）",T39) -> （計 歩） | T42: =IF(Q3>45260,61,IF(AND(O36>0),MAX(O6:O35)+31,IF(AND(J37>0,O36=0),MAX(J6:J36),IF(AND(J37=0,O36>0),MAX(O6:O35)+31,MAX(J6:J36))))) -> 61 | AL42: =IF(T39>=488000,"ウォーキングお疲れさまでした。","")
AL43: =IF(AH33="➡","東海道53次踏破おめでとうございます。","")
R44: =IF(T39>=857700,"＊","")
B46: 記号 | D46: 氏名 | AL46: =IF(T39>=488000,"これからも、いつもの生活に少しずつ","")
B47: 番号 | D47: 日中のご連絡先 | AL47: =IF(T39>=488000,"運動をプラスすることをオススメします。","")
B48: ご住所
B49: (達成賞送付先)
B50: お問い合わせ：でんきテクノロジー健康保険組合 保健課 ℡ ０３－３８６１－１８５２
AA51: =IF(T46="➡","ウォーキングお疲れさまでした。","")
AA52: =IF(X46="➡","奥州街道・甲州街道踏破おめでとうございます。","")
AA53: =IF(T46="➡","これからも、いつもの生活に少しずつ","")
AA54: =IF(T46="➡","運動をプラスすることをオススメします。","")
